BEGIN:VCALENDAR
VERSION:2.0
PRODID:-//Yale International Alliance - ECPv6.15.12.2//NONSGML v1.0//EN
CALSCALE:GREGORIAN
METHOD:PUBLISH
X-ORIGINAL-URL:https://yaleinternationalalliance.org
X-WR-CALDESC:Events for Yale International Alliance
REFRESH-INTERVAL;VALUE=DURATION:PT1H
X-Robots-Tag:noindex
X-PUBLISHED-TTL:PT1H
BEGIN:VTIMEZONE
TZID:America/New_York
BEGIN:DAYLIGHT
TZOFFSETFROM:-0500
TZOFFSETTO:-0400
TZNAME:EDT
DTSTART:20240310T070000
END:DAYLIGHT
BEGIN:STANDARD
TZOFFSETFROM:-0400
TZOFFSETTO:-0500
TZNAME:EST
DTSTART:20241103T060000
END:STANDARD
BEGIN:DAYLIGHT
TZOFFSETFROM:-0500
TZOFFSETTO:-0400
TZNAME:EDT
DTSTART:20250309T070000
END:DAYLIGHT
BEGIN:STANDARD
TZOFFSETFROM:-0400
TZOFFSETTO:-0500
TZNAME:EST
DTSTART:20251102T060000
END:STANDARD
BEGIN:DAYLIGHT
TZOFFSETFROM:-0500
TZOFFSETTO:-0400
TZNAME:EDT
DTSTART:20260308T070000
END:DAYLIGHT
BEGIN:STANDARD
TZOFFSETFROM:-0400
TZOFFSETTO:-0500
TZNAME:EST
DTSTART:20261101T060000
END:STANDARD
END:VTIMEZONE
BEGIN:VEVENT
DTSTART;TZID=America/New_York:20250419T100000
DTEND;TZID=America/New_York:20250419T110000
DTSTAMP:20260421T202721
CREATED:20250206T000010Z
LAST-MODIFIED:20250221T103232Z
UID:9624-1745056800-1745060400@yaleinternationalalliance.org
SUMMARY:Film Society Presents "The Official Story"
DESCRIPTION:On April 19\, 2025\, we are discussing „The Official Story“ by Luis Puenzo (Argentinia 1985). \n\n\n\n“During the final months of Argentinian Military Dictatorship in 1983\, a high school teacher sets out to find out who the mother of her adopted daughter is.” \n\n\n\n​​​Prior to our discussion\, participants will watch the movie on streaming platforms available in their regions. Online options may include Netflix\, Hulu\, HBO Max\, Prime Video\, etc. \n\n\n\nRegister Here
URL:https://yaleinternationalalliance.org/event/film-society-presents-the-official-story/
CATEGORIES:International Film Society
ATTACH;FMTTYPE=image/png:https://yaleinternationalalliance.org/wp-content/uploads/2025/02/The-official-story-no-logo.png
END:VEVENT
BEGIN:VEVENT
DTSTART;TZID=America/New_York:20250517T100000
DTEND;TZID=America/New_York:20250517T110000
DTSTAMP:20260421T202721
CREATED:20250206T000617Z
LAST-MODIFIED:20250206T000620Z
UID:9627-1747476000-1747479600@yaleinternationalalliance.org
SUMMARY:Film Society Presents "Toni Erdmann"
DESCRIPTION:​On May 17\, 2025\, we are discussing „Toni Erdmann“ by Maren Ade (Germany 2016). \n\n\n\n​“A practical joking father tries to reconnect with his hard working daughter by creating an outrageous alter ego and posing as her CEOs life coach.” \n\n\n\n​​Prior to our discussion\, participants will watch the movie on streaming platforms available in their regions. Online options may include Netflix\, Hulu\, HBO Max\, Prime Video\, etc. \n\n\n\nRegister Here
URL:https://yaleinternationalalliance.org/event/film-society-presents-toni-erdmann/
CATEGORIES:International Film Society
ATTACH;FMTTYPE=image/png:https://yaleinternationalalliance.org/wp-content/uploads/2025/02/Toni-Erdmann-no-logo-1.png
END:VEVENT
BEGIN:VEVENT
DTSTART;TZID=America/New_York:20250621T100000
DTEND;TZID=America/New_York:20250621T110000
DTSTAMP:20260421T202721
CREATED:20250206T001049Z
LAST-MODIFIED:20250210T191509Z
UID:9631-1750500000-1750503600@yaleinternationalalliance.org
SUMMARY:Film Society Presents "A Separation"
DESCRIPTION:​On June 21\, 2025\, we are discussing „A Separation“ by Asghar Farhadi (Iran 2011). \n\n\n\n​“A married couple are faced with a difficult decision – to improve the life of their child by moving to another country or to stay in Iran and look after a deteriorating parent who has Alzheimer’s disease. \n\n\n\n​​Prior to our discussion\, participants will watch the movie on streaming platforms available in their regions. Online options may include Netflix\, Hulu\, HBO Max\, Prime Video\, etc. \n\n\n\nRegister Here
URL:https://yaleinternationalalliance.org/event/film-society-presents-a-separation/
CATEGORIES:International Film Society
ATTACH;FMTTYPE=image/png:https://yaleinternationalalliance.org/wp-content/uploads/2025/02/A-separation-no-logo.png
END:VEVENT
END:VCALENDAR