BEGIN:VCALENDAR
VERSION:2.0
PRODID:-//Yale International Alliance - ECPv6.15.12.2//NONSGML v1.0//EN
CALSCALE:GREGORIAN
METHOD:PUBLISH
X-WR-CALNAME:Yale International Alliance
X-ORIGINAL-URL:https://yaleinternationalalliance.org
X-WR-CALDESC:Events for Yale International Alliance
REFRESH-INTERVAL;VALUE=DURATION:PT1H
X-Robots-Tag:noindex
X-PUBLISHED-TTL:PT1H
BEGIN:VTIMEZONE
TZID:America/New_York
BEGIN:DAYLIGHT
TZOFFSETFROM:-0500
TZOFFSETTO:-0400
TZNAME:EDT
DTSTART:20210314T070000
END:DAYLIGHT
BEGIN:STANDARD
TZOFFSETFROM:-0400
TZOFFSETTO:-0500
TZNAME:EST
DTSTART:20211107T060000
END:STANDARD
BEGIN:DAYLIGHT
TZOFFSETFROM:-0500
TZOFFSETTO:-0400
TZNAME:EDT
DTSTART:20220313T070000
END:DAYLIGHT
BEGIN:STANDARD
TZOFFSETFROM:-0400
TZOFFSETTO:-0500
TZNAME:EST
DTSTART:20221106T060000
END:STANDARD
BEGIN:DAYLIGHT
TZOFFSETFROM:-0500
TZOFFSETTO:-0400
TZNAME:EDT
DTSTART:20230312T070000
END:DAYLIGHT
BEGIN:STANDARD
TZOFFSETFROM:-0400
TZOFFSETTO:-0500
TZNAME:EST
DTSTART:20231105T060000
END:STANDARD
BEGIN:DAYLIGHT
TZOFFSETFROM:-0500
TZOFFSETTO:-0400
TZNAME:EDT
DTSTART:20240310T070000
END:DAYLIGHT
BEGIN:STANDARD
TZOFFSETFROM:-0400
TZOFFSETTO:-0500
TZNAME:EST
DTSTART:20241103T060000
END:STANDARD
END:VTIMEZONE
BEGIN:VEVENT
DTSTART;TZID=America/New_York:20230621T180000
DTEND;TZID=America/New_York:20230621T193000
DTSTAMP:20260421T114826
CREATED:20230620T192214Z
LAST-MODIFIED:20230919T062805Z
UID:8976-1687370400-1687375800@yaleinternationalalliance.org
SUMMARY:Regenerating Well-Being Through a Positive Civic Action Cycle - Maggie Favretti (Founder\, DesignEd4Resilience)
DESCRIPTION:Join the alumni of the online Climate Change and Health Certificate Program for an empowering conversation with Maggie Favretti! \n\n\n\nMaggie Favretti\, a Yale-and Middlebury-educated cultural historian\, has spent over 35 years happily helping her students to ask\, “why not now?” As an expert in educational frameworks and collaborations (k-16+)\, Maggie uses co-design thinking to empower students and their communities to thrive by shifting the paradigm to youth partnership in making their world more sustainable\, equitable\, resilient and happy. Her current research interests include the ethics of time in leadership decision-making\, anti-colonial practices in youth development\, teacher and community empowerment\, the roles of shared efficacy\, creative confidence and civic courage in climate change adaptation/ mitigation capacity\, and the impact on and role of teachers in disaster response and recovery. \n\n\n\nOnline via Zoom \n\n\n\nRegister here.
URL:https://yaleinternationalalliance.org/event/regenerating-well-being-through-a-positive-civic-action-cycle-maggie-favretti-founder-designed4resilience/
CATEGORIES:Education in Action
ATTACH;FMTTYPE=image/png:https://yaleinternationalalliance.org/wp-content/uploads/2023/06/Favretti_June21_calendar.png
END:VEVENT
BEGIN:VEVENT
DTSTART;TZID=America/New_York:20221217T100000
DTEND;TZID=America/New_York:20221217T110000
DTSTAMP:20260421T114826
CREATED:20220903T214636Z
LAST-MODIFIED:20221011T173929Z
UID:7989-1671271200-1671274800@yaleinternationalalliance.org
SUMMARY:Film Society presents “Hunt for the Wilderpeople”
DESCRIPTION:Join movie enthusiasts from our global alumni community to discuss and exchange views on films from around the world. And share your favorite film from your own country to view for discussion at a future meeting. \n\n\n\nPrior to the discussion participants will watch the movie on streaming platforms available in their regions. Online options may include Netflix\, Hulu\, HBO Max\, Prime Video\, etc. \n\n\n\nNon-members register here.
URL:https://yaleinternationalalliance.org/event/film-society-presents-hunt-for-the-wilderpeople/
CATEGORIES:International Film Society
ATTACH;FMTTYPE=image/png:https://yaleinternationalalliance.org/wp-content/uploads/2022/09/YIAFS-Events-Cards_Hunt-for-the-Wilderpeople-500-×-300px.png
END:VEVENT
BEGIN:VEVENT
DTSTART;TZID=America/New_York:20230121T100000
DTEND;TZID=America/New_York:20230121T110000
DTSTAMP:20260421T114826
CREATED:20230103T225700Z
LAST-MODIFIED:20230109T231657Z
UID:7993-1674295200-1674298800@yaleinternationalalliance.org
SUMMARY:Film Society presents “Minari”
DESCRIPTION:Join movie enthusiasts from our global alumni community to discuss and exchange views on films from around the world. And share your favorite film from your own country to view for discussion at a future meeting. \n\n\n\nPrior to the discussion participants will watch the movie on streaming platforms available in their regions. Online options may include Netflix\, Hulu\, HBO Max\, Prime Video\, etc. \n\n\n\nNon-members register here.
URL:https://yaleinternationalalliance.org/event/film-society-presents-minari/
CATEGORIES:International Film Society
ATTACH;FMTTYPE=image/png:https://yaleinternationalalliance.org/wp-content/uploads/2022/09/Film-Society-Icon-ratio-53.png
END:VEVENT
BEGIN:VEVENT
DTSTART;TZID=America/New_York:20221110T180000
DTEND;TZID=America/New_York:20221110T190000
DTSTAMP:20260421T114826
CREATED:20221103T074207Z
LAST-MODIFIED:20221104T041351Z
UID:8266-1668103200-1668106800@yaleinternationalalliance.org
SUMMARY:Latin American Cinema in 2022
DESCRIPTION:Join the Yale International Film Society and Yale’s Latin American and Iberian Film Festival\, LIFFY\, for a panel discussion with award-winning film directors to discuss current cinema in Latin America. Please visit here to learn more about LIFFY’s exceptional programming.
URL:https://yaleinternationalalliance.org/event/latin-american-cinema-in-2022/
CATEGORIES:International Film Society
ATTACH;FMTTYPE=image/jpeg:https://yaleinternationalalliance.org/wp-content/uploads/2022/11/Flyer_YALE_LATCINEMA01.jpg
END:VEVENT
BEGIN:VEVENT
DTSTART;TZID=America/New_York:20221110T120000
DTEND;TZID=America/New_York:20221110T140000
DTSTAMP:20260421T114826
CREATED:20221106T231136Z
LAST-MODIFIED:20221106T232804Z
UID:8362-1668081600-1668088800@yaleinternationalalliance.org
SUMMARY:Luxury & Emotions 100% for YIA Mobile Emotional Clinic
DESCRIPTION:LUXURY & EMOTIONS 100% –  Auction at Galleria Pananti as First Fundraiser for YIA Mobile Emotional ClinicTM \n\n\n\n\n\n\n\n\n\nVisit our page for more information on this amazing project!
URL:https://yaleinternationalalliance.org/event/8362/
LOCATION:Galleria Pananti – Auction House  Palazzo Peruzzi De’ Medici Via Maggio\, 28a 50125 Florence\, Italy\, Palazzo Peruzzi De' Medici\, Florence\, Firenze\, 50125\, Italy
CATEGORIES:Education in Action,Make A Difference
ATTACH;FMTTYPE=image/png:https://yaleinternationalalliance.org/wp-content/uploads/2022/11/MEC_Event-Card.png
END:VEVENT
BEGIN:VEVENT
DTSTART;TZID=America/New_York:20221025T090000
DTEND;TZID=America/New_York:20221025T100000
DTSTAMP:20260421T114826
CREATED:20221015T114542Z
LAST-MODIFIED:20221018T071708Z
UID:8232-1666688400-1666692000@yaleinternationalalliance.org
SUMMARY:#InConversationWith Professor Saleem H. Ali on his new book "Earthly Order"
DESCRIPTION:How does understanding the natural order help us make better decisions about the environment? How do the laws of nature relate to our social and political order? \n\n\n\nProfessor Saleem H. Ali discusses his new book Earthly Order: How Natural Laws Define Human Life with YIA Board Chair Kyle Wang and Board Director Ruth Spencer. Please go here to inform yourself more about Professor Saleem’s book. \n\n\n\nRoald Hoffmann\, Nobel Laureate in Chemistry\, said about Professor Ali’s book Earthly Order: “I learned something on nearly every page; so will you\, as the author draws us into an affirmative view of a changing\, interrelated\, and wondrous world.”   \n\n\n\n \n\n\n\nPlease register here: Registration Link \n\n\n\nAbout the speaker: \n\n\n\nProfessor Saleem H. Ali\n\n\n\nSaleem H. Ali was born in New Bedford\, Massachusetts but grew up in Lahore\, Pakistan until his college years\, receiving his Bachelor’s degree in Chemistry from Tufts University\, and his Masters and Ph.D. degrees in environmental policy and planning at Yale and MIT\, respectively. He currently holds the Blue and Gold Distinguished Professorship in Geography and Spatial Sciences at the University of Delaware(USA) and is Honorary Professor at the University of Queensland (Australia). Dr. Ali’s laurels include being a National Geographic Explorer (having travelled for research to over 150 countries); being chosen as a Young Global Leader by the World Economic Forum and serving on the seven-member science panel of the Global Environment Facility (the world’s largest multilateral trust fund for the environment held in trusteeship by the World Bank). His earlier books include Treasures of the Earth: Need Greed and a Sustainable Future which was hailed by Nobel laureate Muhammad Yunus as providing “welcome linkage between environmental behavior and poverty alleviation.”
URL:https://yaleinternationalalliance.org/event/inconversationwith-professor-saleem-h-ali-on-his-new-book-earthly-order/
CATEGORIES:In Conversation with
ATTACH;FMTTYPE=image/png:https://yaleinternationalalliance.org/wp-content/uploads/2022/10/InConversationWith-Event-Card.png
END:VEVENT
BEGIN:VEVENT
DTSTART;TZID=America/New_York:20221018T120000
DTEND;TZID=America/New_York:20221018T130000
DTSTAMP:20260421T114826
CREATED:20221008T091612Z
LAST-MODIFIED:20221011T175014Z
UID:8201-1666094400-1666098000@yaleinternationalalliance.org
SUMMARY:#MakeADifference: Serving Humanity
DESCRIPTION:The YIA Refugee Service HubTM is a YIA partnership with the International Rescue Committee (IRC) and Duet. Together we facilitate refugee settlement in the U.S.\, making the process of donating easier\, more efficient\, professional and transparent. By leveraging innovative technology to give exactly what refugees request\, instead of cash or goods that refugees don’t need\, donors directly help refugees fleeing from harm to a new home.  \n\n\n\nDo you like to know how your donation is used exactly and when and by whom? \n\n\n\nHow does our technology preserve refugees’ dignity while helping them get assistance and become members of communities in which they settle? \n\n\n\nHow does our platform play a role in building local businesses and the economy?   \n\n\n\nIf you are wondering how it works and how the YIA Refugee Service HubTM is different from other donation platforms\, please join us on Tuesday\, October 18 at 12pm ET / 5pm GMT to find it out directly from YIA’s Chair Kyle Kegang Wang\, Duet’s Co-founder Rhys Richmond\, and IRC’s Executive Director Nicky Smith. \n\n\n\nPlease register here: Registration Link \n\n\n\nAbout the Speakers: \n\n\n\nRhys Richmond\n\n\n\nRhys Richmond is the co-founded and currently serves as COO for GiveDuet\, a philanthropic start-up designed to reimagine international asylee aid by connecting international givers\, resettled refugees\, and small family-run businesses on a transparent and efficient charity platform\, initially launched on the island of Lesvos\, Greece. After graduating Summa Cum Laude with a Bachelors of Science in Biomedical Engineering from the University of Southern California in 2021\, she took a gap year to work on expanding Duet’s operations both in Greece and in the United States. She is now a first year student at Yale School of Medicine pursuing a Doctor of Medicine (M.D.) degree. Rhys is a life-long dancer and animal lover – you can often find her in a dance studio or attempting to train her two rambunctious Siamese kittens (who you may see in the background of her Zoom screen). \n\n\n\nNicky Smith\n\n\n\nNicky Smith is the Executive Director of the International Rescue Committee in Washington. IRC Washington provides opportunities for refugees\, asylees\, victims of human trafficking\, survivors of torture\, and other immigrants to thrive in America.  She has 30 years of progressively responsible professional experience with Non-Governmental Organizations in crisis affected countries; of which 12 years have been spent in a conflict and post conflict setting. Nicky is a member of the Civic Council of the Masters of Arts in Applied International Studies Program at the Jackson School of Business\, University of Washington.  She is also a member of US Global Leadership Coalition. Prior to her role as Executive Director at The IRC in Seattle\, Nicky was responsible for establishing and managing new country programs for The IRC. Her areas of expertise include emergency preparedness and response\, country-program management\, refugee policy and advocacy\, and strategy and change planning. Nicky joined The IRC in 2003. From 2007 to 2010\, she was a member of The IRC’s Washington\, D.C. office\, working to educate policy makers and the public about the importance of providing resources for humanitarian and development assistance in Africa and Asia\, and promoting programs that prevent violence against women and girls. From 2003 to 2007\, she worked in some of the organization’s most sensitive situations\, including managing The IRC’s single largest country program\, Sudan\, and serving as the  IRC Country Director in Liberia during a key moment in the peace process. Before joining The IRC\, Nicky worked for almost 10 years with Doctors Without Borders and Children’s Aid Direct in the Democratic Republic of Congo\, Rwanda\, Burundi\, Afghanistan\, Somalia\, Iraq\, Pakistan and Nepal\, amongst other countries. \n\n\n\nKyle Kegang Wang\n\n\n\nKyle Kegang Wang serves as the Board Chair of Yale International Alliance (YIA)\, a 501c-3 nonprofit Yale Alumni Shared Interest Group under Yale Alumni Association. Kyle’s global perspective is built upon his 4+ decades of work and travels in over 40 countries and his various leadership roles in industries\, nonprofits\, startup ventures and strategic consulting activities. After receiving his degrees from Yale (1985) and University of Chicago (1993)\, Kyle worked for 35 years in corporations and tech startups including serving as CEOs in several clean tech companies and holding executive roles in fortune 500 companies. Over these decades Kyle has served on over a dozen corporate and nonprofit boards in several continents.  He is passionate about making positive impact by mobilizing maximum number of global citizens to address the key challenges of our time\, including the unprecedented refugee crises we face today.  
URL:https://yaleinternationalalliance.org/event/makeadifference-serving-humanity/
CATEGORIES:Make A Difference
ATTACH;FMTTYPE=image/png:https://yaleinternationalalliance.org/wp-content/uploads/2022/10/MakeADifference-Event-Card-Serving-Humanity.png
END:VEVENT
BEGIN:VEVENT
DTSTART;TZID=America/New_York:20221015T100000
DTEND;TZID=America/New_York:20221015T110000
DTSTAMP:20260421T114826
CREATED:20220908T155237Z
LAST-MODIFIED:20221011T173641Z
UID:8027-1665828000-1665831600@yaleinternationalalliance.org
SUMMARY:Film Society presents “The Man Who Sold His Skin”
DESCRIPTION:Join movie enthusiasts from our global alumni community to discuss and exchange views on films from around the world. And share your favorite film from your own country to view for discussion at a future meeting. \n\n\n\nPrior to the discussion participants will watch the movie on streaming platforms available in their regions. Online options may include Netflix\, Hulu\, HBO Max\, Prime Video\, etc. \n\n\n\nNon-members register here.
URL:https://yaleinternationalalliance.org/event/film-society-presents-the-man-who-sold-his-skin-3/
CATEGORIES:International Film Society
ATTACH;FMTTYPE=image/png:https://yaleinternationalalliance.org/wp-content/uploads/2022/09/YIAFS-Events-Cards_The-Man-Who-Sold-His-Skin-500-×-300px.png
END:VEVENT
BEGIN:VEVENT
DTSTART;TZID=America/New_York:20220917T100000
DTEND;TZID=America/New_York:20220917T110000
DTSTAMP:20260421T114826
CREATED:20220823T145333Z
LAST-MODIFIED:20220910T230950Z
UID:7525-1663408800-1663412400@yaleinternationalalliance.org
SUMMARY:Film Society presents “Capernaum”
DESCRIPTION:Join movie enthusiasts from our global alumni community to discuss and exchange views on films from around the world. And share your favorite film from your own country to view for discussion at a future meeting. \n\n\n\nPrior to the discussion participants will watch the movie on streaming platforms available in their regions. Online options may include Netflix\, Hulu\, HBO Max\, Prime Video\, etc. \n\n\n\nNon-members register here.
URL:https://yaleinternationalalliance.org/event/film-society-presents-capernaum/
CATEGORIES:International Film Society
ATTACH;FMTTYPE=image/png:https://yaleinternationalalliance.org/wp-content/uploads/2022/08/YIAFS-Events-Cards-500-×-300px.png
END:VEVENT
BEGIN:VEVENT
DTSTART;TZID=America/New_York:20220519T040000
DTEND;TZID=America/New_York:20220519T060000
DTSTAMP:20260421T114826
CREATED:20220720T194208Z
LAST-MODIFIED:20220726T154401Z
UID:6082-1652932800-1652940000@yaleinternationalalliance.org
SUMMARY:Moment of Truth: A wake-up call for gender equality in Asia
DESCRIPTION:Yale International Alliance is honored to sponsor Moment of Truth: A wake-up call for gender equality in Asia. \n\n\n\nThis webinar will provide critical data-driven strategies for dynamic and inclusive organizations that wish to enhance their focus on gender equality. \n\n\n\nWhat: Moment of Truth: A wake-up call for gender equality in Asia \n\n\n\nWhen: Thursday\, May 19\, 2022 | 8:00am ET / 8:00pm SGT \n\n\n\nWhere: online \n\n\n\nRegistration: Register Here \n\n\n\n Speakers: \n\n\n\nChristine Fellowes\, MD\, NBCUniversal Int’l Networks & DTC APAC || IMD\, USA; Co-Founder\, NINEby9April Hu\, Founder\, Swando Company; XRWorkout.io & Zigen Fund; Co-Founder\, NINEby9 (BSc Yale)Trisha Craig\, Vice President for Engagement Yale-NUSSanjeev Chatrath\, Chief Revenue Officer\, #dltledgers; Advisory Board\, NINEby9Professor Deborah Davis\, Professor Emerita of Sociology\, Yale University
URL:https://yaleinternationalalliance.org/event/moment-of-truth-a-wake-up-call-for-gender-equality-in-asia/
END:VEVENT
BEGIN:VEVENT
DTSTART;TZID=America/New_York:20220430T040000
DTEND;TZID=America/New_York:20220430T050000
DTSTAMP:20260421T114826
CREATED:20220720T194513Z
LAST-MODIFIED:20220720T194519Z
UID:6086-1651291200-1651294800@yaleinternationalalliance.org
SUMMARY:Humanitarian Benefit Concert (online) for the People of Ukraine by Yale Russian Chorus
DESCRIPTION:The Yale Clubs in Asia are putting together an online humanitarian non-political benefit concert for the people of Ukraine featuring the Yale Russian Chorus. See https://yalerussianchorus.org. The concert will last around 45-55 minutes. A member of the YRC will introduce each musical piece and its historical and cultural context. \n\n\n\nThe YRC is a tenor-bass a cappella choral ensemble specializing in sacred and secular Slavic choral music. Chorus members comprise both undergrad and grad students. \n\n\n\nFounded in 1953\, the Yale Russian Chorus has a long history of building direct people to people friendship bridging across national and political silos\, distrust\, ignorance and barriers such as the Iron Curtain\, Cold Wars and Hot Wars. \n\n\n\nThe YRC repertoire spans over a thousand years of history and multiple continents: Russian Folk Songs (Kalinka\, The Legend of the Twelve Brigands)\, Cossack marches (Oi\, Na Hory\, Vyotsa)\, Slovak lullabies (Hej\, Pada Pada)\, Macedonian Wedding Songs (Ne Sedi\, Djemo)\, Liturgical music (Blazhen Muzh\, Bogoroditse Devo)\, and the occasional American Spiritual (Ride the Chariot\, Steal Away). \n\n\n\nThe chorus has interacted with Ukrainian music cultures and will feature a number of Ukrainian songs in the program\, using Music and Culture to transcend national conflicts and captivate audiences to renew and empower our common humanity\, tolerance and love that embodies Lux et Veritas\, Light and Truth in all of us. \n\n\n\nDate: Saturday April 30\, 2022 at 8am New Haven/ETRegister at https://yale.zoom.us/webinar/register/WN_XRt0p2V8QxaPvBjMValUTQ \n\n\n\nDonations are NOT required and everyone is welcome. If you are interested in donating\, the attached article lists some organizations that you can donate directly to:https://www.globalcitizen.org/en/content/ways-to-help-ukraine-conflict/
URL:https://yaleinternationalalliance.org/event/humanitarian-benefit-concert-online-for-the-people-of-ukraine-by-yale-russian-chorus/
END:VEVENT
END:VCALENDAR