BEGIN:VCALENDAR
VERSION:2.0
PRODID:-//Yale International Alliance - ECPv6.15.12.2//NONSGML v1.0//EN
CALSCALE:GREGORIAN
METHOD:PUBLISH
X-ORIGINAL-URL:https://yaleinternationalalliance.org
X-WR-CALDESC:Events for Yale International Alliance
REFRESH-INTERVAL;VALUE=DURATION:PT1H
X-Robots-Tag:noindex
X-PUBLISHED-TTL:PT1H
BEGIN:VTIMEZONE
TZID:America/New_York
BEGIN:DAYLIGHT
TZOFFSETFROM:-0500
TZOFFSETTO:-0400
TZNAME:EDT
DTSTART:20230312T070000
END:DAYLIGHT
BEGIN:STANDARD
TZOFFSETFROM:-0400
TZOFFSETTO:-0500
TZNAME:EST
DTSTART:20231105T060000
END:STANDARD
BEGIN:DAYLIGHT
TZOFFSETFROM:-0500
TZOFFSETTO:-0400
TZNAME:EDT
DTSTART:20240310T070000
END:DAYLIGHT
BEGIN:STANDARD
TZOFFSETFROM:-0400
TZOFFSETTO:-0500
TZNAME:EST
DTSTART:20241103T060000
END:STANDARD
BEGIN:DAYLIGHT
TZOFFSETFROM:-0500
TZOFFSETTO:-0400
TZNAME:EDT
DTSTART:20250309T070000
END:DAYLIGHT
BEGIN:STANDARD
TZOFFSETFROM:-0400
TZOFFSETTO:-0500
TZNAME:EST
DTSTART:20251102T060000
END:STANDARD
END:VTIMEZONE
BEGIN:VEVENT
DTSTART;TZID=America/New_York:20240504T100000
DTEND;TZID=America/New_York:20240504T110000
DTSTAMP:20260421T055748
CREATED:20240105T204222Z
LAST-MODIFIED:20240420T182455Z
UID:9407-1714816800-1714820400@yaleinternationalalliance.org
SUMMARY:Film Society presents "La Dolce Vita"
DESCRIPTION:Join movie enthusiasts from our global alumni community to discuss and exchange views on films from around the world. And share your favorite film from your own country to view for discussion at a future meeting. \n\n\n\nOn May 4\, 2024\, we are discussing “La Dolce Vita” by Federico Fellini (Italy 1960). \n\n\n\n“In 1959/1960 Rome\, Marcello Rubini (Marcello Mastroianni) is a writer and journalist\, the worst kind of journalist–a tabloid journalist.” \n\n\n\nPrior to our discussion\, participants will watch the movie on streaming platforms available in their regions. Online options may include Netflix\, Hulu\, HBO Max\, Prime Video\, etc. \n\n\n\nRegister here
URL:https://yaleinternationalalliance.org/event/film-society-presents-la-dolce-vita/
CATEGORIES:International Film Society
ATTACH;FMTTYPE=image/png:https://yaleinternationalalliance.org/wp-content/uploads/2024/04/La-Dolce-Vita-new-no-logo.png
END:VEVENT
END:VCALENDAR